BEGIN:VCALENDAR
VERSION:2.0
PRODID:-//Illinois Family Institute - ECPv5.16.4//NONSGML v1.0//EN
CALSCALE:GREGORIAN
METHOD:PUBLISH
X-WR-CALNAME:Illinois Family Institute
X-ORIGINAL-URL:https://illinoisfamily.org
X-WR-CALDESC:Events for Illinois Family Institute
BEGIN:VTIMEZONE
TZID:America/Chicago
BEGIN:DAYLIGHT
TZOFFSETFROM:-0600
TZOFFSETTO:-0500
TZNAME:CDT
DTSTART:20240310T080000
END:DAYLIGHT
BEGIN:STANDARD
TZOFFSETFROM:-0500
TZOFFSETTO:-0600
TZNAME:CST
DTSTART:20241103T070000
END:STANDARD
END:VTIMEZONE
BEGIN:VEVENT
DTSTART;TZID=America/Chicago:20240516T183000
DTEND;TZID=America/Chicago:20240516T203000
DTSTAMP:20260424T181121
CREATED:20240411T100055Z
LAST-MODIFIED:20240410T191848Z
UID:74864-1715884200-1715891400@illinoisfamily.org
SUMMARY:Will the Real Church Please Stand Up!
DESCRIPTION:The American church is in a dangerous position and many churches have had a relaxed stance on a plethora of issues. \nWill the Real Church Please Stand Up is an event hosted by the Christian Emergency League and this event is meant to answer hard questions. \nPastor James Pittman will answer the question\, “What Happens if the Government tries to Shut the Church down again?” \nPastor Brandon Myers will answer how the Church should respond to pride month and Pastor Calvin Lindstrom will address the meaning of the separation of Church and State. \nThis is an informative event you don’t want to miss. \nTo register\, CLICK HERE! \n 
URL:https://illinoisfamily.org/event/will-the-real-church-please-stand-up/
LOCATION:New Hope Community Church\, 1023 E Palatine Rd\, Palatine\, IL\, 60074\, United States
CATEGORIES:Webinar
ATTACH;FMTTYPE=image/jpeg:https://illinoisfamily.org/wp-content/uploads/2024/04/CEL-May-16-event.jpg
GEO:42.109657;-88.0185111
X-APPLE-STRUCTURED-LOCATION;VALUE=URI;X-ADDRESS=New Hope Community Church 1023 E Palatine Rd Palatine IL 60074 United States;X-APPLE-RADIUS=500;X-TITLE=1023 E Palatine Rd:geo:-88.0185111,42.109657
END:VEVENT
END:VCALENDAR