BEGIN:VCALENDAR
VERSION:2.0
PRODID:-//Illinois Family Institute - ECPv5.16.4//NONSGML v1.0//EN
CALSCALE:GREGORIAN
METHOD:PUBLISH
X-WR-CALNAME:Illinois Family Institute
X-ORIGINAL-URL:https://illinoisfamily.org
X-WR-CALDESC:Events for Illinois Family Institute
BEGIN:VTIMEZONE
TZID:America/Chicago
BEGIN:DAYLIGHT
TZOFFSETFROM:-0600
TZOFFSETTO:-0500
TZNAME:CDT
DTSTART:20200308T080000
END:DAYLIGHT
BEGIN:STANDARD
TZOFFSETFROM:-0500
TZOFFSETTO:-0600
TZNAME:CST
DTSTART:20201101T070000
END:STANDARD
END:VTIMEZONE
BEGIN:VEVENT
DTSTART;TZID=America/Chicago:20200315T163000
DTEND;TZID=America/Chicago:20200315T193000
DTSTAMP:20260424T090642
CREATED:20200214T210457Z
LAST-MODIFIED:20200215T142213Z
UID:55338-1584289800-1584300600@illinoisfamily.org
SUMMARY:Visionary Parenting & Grandparenting Seminar
DESCRIPTION:God blessed you with children for a reason. Come and discover it! \n• Catch a vision for the spiritual life of your family\n• Create a less chaotic and more peaceful home\n• Pass faith and character to your children\n• Practice effective Biblical discipline\n• Win the hearts of your children \n$12/adult\, $5/child (Includes dinner& childcare\, $30 max cost per family) \nLongGroveCommunityChurch.com/events\nCindy Disney-Gainey\n(847) 634-3635\ncdisneygainey8@gmail.com
URL:https://illinoisfamily.org/event/visionary-parenting-grandparenting-seminar/
LOCATION:Long Grove Community Church\, 1110 Robert Parker Coffin Rd\, Long Grove\, Illinois\, 60047
CATEGORIES:Retreat
ATTACH;FMTTYPE=image/jpeg:https://illinoisfamily.org/wp-content/uploads/2020/02/Visionary-Parenting-Grandparenting-Seminar.jpg
END:VEVENT
END:VCALENDAR