BEGIN:VCALENDAR
VERSION:2.0
PRODID:-//Illinois Family Institute - ECPv5.16.4//NONSGML v1.0//EN
CALSCALE:GREGORIAN
METHOD:PUBLISH
X-WR-CALNAME:Illinois Family Institute
X-ORIGINAL-URL:https://illinoisfamily.org
X-WR-CALDESC:Events for Illinois Family Institute
BEGIN:VTIMEZONE
TZID:America/Chicago
BEGIN:DAYLIGHT
TZOFFSETFROM:-0600
TZOFFSETTO:-0500
TZNAME:CDT
DTSTART:20200308T080000
END:DAYLIGHT
BEGIN:STANDARD
TZOFFSETFROM:-0500
TZOFFSETTO:-0600
TZNAME:CST
DTSTART:20201101T070000
END:STANDARD
END:VTIMEZONE
BEGIN:VEVENT
DTSTART;TZID=America/Chicago:20200307T100000
DTEND;TZID=America/Chicago:20200307T153000
DTSTAMP:20260422T171846
CREATED:20191122T220418Z
LAST-MODIFIED:20200128T201035Z
UID:54294-1583575200-1583595000@illinoisfamily.org
SUMMARY:IFI Worldview Event: Thinking Biblically About Our Corrosive Culture
DESCRIPTION:Join us for our sixth annual worldview conference featuring Dr. Michael L. Brown and Dr. Robert A. J. Gagnon at the Village Church of Barrington! \nWHEN: March 7\, 2020 \nTIME: 10:00 AM – 3:30 PM \nWHERE: Village Church of Barrington\n                   1600 E. Main St\, Barrington\, IL  60010 \nCOST: $20 per person and $50 per family \nMichael L. Brown is the founder and president of FIRE School of Ministry in Concord\, North Carolina\, Director of the Coalition of Conscience\, and host of the daily\, nationally\, syndicated talk radio show\, the Line of Fire\, as well as the host of the apologetics TV show\, “Answering Your Toughest Questions\,” which airs on the NRB TV network. He became a believer in Jesus in 1971 as a sixteen year-old\, heroin-shooting\, LSD-using Jewish rock drummer. Since then\, he has preached throughout America and around the world\, bringing a message of repentance\, revival\, reformation\, and cultural revolution. \nRobert A. J. Gagnon is Professor of New Testament Theology at Houston Baptist University. Previously he was a tenured Associate Professor of New Testament at Pittsburgh Theological Seminary\, teaching there for 23 years (1994-2017). Before that he had a one-year position as Visiting Professor of Religion at Middlebury College in Vermont. He has a B.A. degree from Dartmouth College\, an M.T.S. from Harvard Divinity School\, and a Ph.D. from Princeton Theological Seminary. His main fields of interest are Pauline theology and sexual issues in the Bible. He is a member both of the Society of Biblical Literature and of the Studiorum Novi Testamenti Societas [Society of New Testament Studies]. He is also an ordained elder at a Presbyterian Church (USA) in Pittsburgh. \nClick here for flyer.  \nRegister Below or call the IFI office at 708-781-9328.\n\n\n                \n                        Tickets Available*\n			\n				\n				Family Ticket (Any size family) - $50\n			\n			\n				\n				Individual Ticket - $20\n			How Many Tickets?*Total Price\n							$0.00\n							\n						Your Name*\n                            \n                            \n                                                    \n                                                    First\n                                                \n                            \n                            \n                                                    \n                                                    Last\n                                                \n                            \n                        Guests Names*If more than one ticket or a family ticket is purchased\, please enter your additional guests names. One guest per row.First NameLast Name       Your Email*\n                                \n                                    \n                                    Enter Email\n                                \n                                \n                                    \n                                    Confirm Email\n                                \n                                \n                            Phone*Address*    \n                    \n                         \n                                        \n                                        Street Address\n                                    \n                                        \n                                        Address Line 2\n                                    \n                                    \n                                    City\n                                 \n                                        \n                                        State / Province / Region\n                                      \n                                    \n                                    ZIP / Postal Code\n                                \n                    \n                Credit Card*\n                                    American ExpressDiscoverMasterCardVisaSupported Credit Cards: American Express\, Discover\, MasterCard\, Visa\n                                    \n                                    Card Number\n                                 \n                                            \n                                                \n                                                    \n                                                       \n                                                           Month010203040506070809101112\n                                                       \n                                                       \n                                                   \n                                                   \n                                                       \n                                                           Year20262027202820292030203120322033203420352036203720382039204020412042204320442045\n                                                       \n                                                       \n                                                       \n                                                \n                                                 Expiration Date\n                                            \n                                                \n                                                 \n                                                Security Code\n                                             \n                                        \n                                            \n                                            Cardholder Name\n                                         Total\n							$0.00
URL:https://illinoisfamily.org/event/thinking-biblically-about-our-corrosive-culture/
LOCATION:Village Church of Barrington\, 1600 E. Main St.\, Barrington\, IL
ATTACH;FMTTYPE=image/jpeg:https://illinoisfamily.org/wp-content/uploads/2019/11/Worldview-Conf_Corrosive-Culture-1.jpg
ORGANIZER;CN="Illinois%20Family%20Institute":MAILTO:v.kathy@illinoisfamily.org
GEO:42.1548628;-88.1074398
X-APPLE-STRUCTURED-LOCATION;VALUE=URI;X-ADDRESS=Village Church of Barrington 1600 E. Main St. Barrington IL;X-APPLE-RADIUS=500;X-TITLE=1600 E. Main St.:geo:-88.1074398,42.1548628
END:VEVENT
END:VCALENDAR