BEGIN:VCALENDAR
VERSION:2.0
PRODID:-//Illinois Family Institute - ECPv5.16.4//NONSGML v1.0//EN
CALSCALE:GREGORIAN
METHOD:PUBLISH
X-WR-CALNAME:Illinois Family Institute
X-ORIGINAL-URL:https://illinoisfamily.org
X-WR-CALDESC:Events for Illinois Family Institute
BEGIN:VTIMEZONE
TZID:America/Chicago
BEGIN:DAYLIGHT
TZOFFSETFROM:-0600
TZOFFSETTO:-0500
TZNAME:CDT
DTSTART:20230312T080000
END:DAYLIGHT
BEGIN:STANDARD
TZOFFSETFROM:-0500
TZOFFSETTO:-0600
TZNAME:CST
DTSTART:20231105T070000
END:STANDARD
END:VTIMEZONE
BEGIN:VEVENT
DTSTART;TZID=America/Chicago:20231112T163000
DTEND;TZID=America/Chicago:20231112T203000
DTSTAMP:20260420T084431
CREATED:20230922T100035Z
LAST-MODIFIED:20230921T152350Z
UID:71858-1699806600-1699821000@illinoisfamily.org
SUMMARY:Thanksgiving Family Ball
DESCRIPTION:Your family is cordially invited to the Thanksgiving Family Ball! \nYour family will share a wonderful memory and catch a fresh vision for the power of gratitude. \nYou will also have the opportunity to hear about the mission of Visionary Family Ministries (VFM)\, and you will have the opportunity to partner with VFM to impact more families around the world for Christ. \nWe hope to see you there! \nTo register\, CLICK HERE. \nSchedule of Events \n4:30pm | Arrival\, family picture\, games\, and appetizers \n5:00pm | Welcome\, prayer\, and introduction to the silent auction \n5:15pm | Dinner stations open \n6:00pm | Family Worship with orchestra and interactive Bible teaching for all ages \n7:00pm | Mission of VFM and invitation to partner with us \n7:15pm | Dessert\, family dancing and jazz band \n8:30pm | Evening concludes
URL:https://illinoisfamily.org/event/thanksgiving-family-ball/
LOCATION:The Abbington\, 3S002 Route 53 Corner of Route 53 and\, Butterfield Rd.\, Glen Ellyn\, IL\, 60137\, United States
CATEGORIES:Banquet,Entertainment,Fundraiser
ATTACH;FMTTYPE=image/jpeg:https://illinoisfamily.org/wp-content/uploads/2023/09/Visionary-Family-Ball-23.jpg
ORGANIZER;CN="Visionary%20Family%20Ministries":MAILTO:info@visionaryfam.com
END:VEVENT
END:VCALENDAR