BEGIN:VCALENDAR
VERSION:2.0
PRODID:-//Illinois Family Institute - ECPv5.16.4//NONSGML v1.0//EN
CALSCALE:GREGORIAN
METHOD:PUBLISH
X-WR-CALNAME:Illinois Family Institute
X-ORIGINAL-URL:https://illinoisfamily.org
X-WR-CALDESC:Events for Illinois Family Institute
BEGIN:VTIMEZONE
TZID:America/Chicago
BEGIN:DAYLIGHT
TZOFFSETFROM:-0600
TZOFFSETTO:-0500
TZNAME:CDT
DTSTART:20150308T080000
END:DAYLIGHT
BEGIN:STANDARD
TZOFFSETFROM:-0500
TZOFFSETTO:-0600
TZNAME:CST
DTSTART:20151101T070000
END:STANDARD
END:VTIMEZONE
BEGIN:VEVENT
DTSTART;TZID=America/Chicago:20151201T120000
DTEND;TZID=America/Chicago:20151228T130000
DTSTAMP:20260425T145406
CREATED:20151130T183911Z
LAST-MODIFIED:20151130T184016Z
UID:15322-1448971200-1451307600@illinoisfamily.org
SUMMARY:Springfield Nativity Scene
DESCRIPTION:Nativity Scene Returns to Illinois Capitol \nThe Springfield Nativity Scene Committee will hold its 8th annual event on Tuesday\, December 1st\, from 12 Noon until 1 P.M.   The display depicting the birth of Jesus Christ will\, once again\, stand in the center of the Illinois state capitol Rotunda throughout the Christmas season. Illinois Family Institute is a proud sponsor. \nThe mission of the Springfield Nativity Scene Committee is to honor the birth of Jesus Christ and to inform the media and the public that this display of our religious faith in the public square is guaranteed by the U. S. Constitution.  The Nativity Scene is legal because it is temporary in nature and is privately-sponsored. \nThe opening prayer will be led by the Rev. Bernie Lutchman\, President of Business Men In Christ of Springfield.  Music will be provided by Melessa E. Tyus\, Worship Leader\, Forward in Faith Evangelistic Ministries of Decatur. \nSpeakers will be Thomas Brejcha of the Chicago-based Thomas More Society; Rev. Christopher House\, Chancellor of the Roman Catholic Diocese of Springfield; Beth Rogers of Springfield; Rev. Mark Tyus\, Pastor of Forward in Faith Evangelistic Ministries of Decatur; and Henry Johnson\, Elder at Jefferson Street Christian Church in Lincoln. \nDirectly following the Nativity Scene celebration\, Chaplain Steve Holden of Wreaths Across America will honor our military by placing a wreath in front of the flags representing all branches of the U.S. military. \nThe Nativity Scene display will be available for viewing in the Rotunda\, located at 301 S. 2nd Street\, during regular business hours.  Anyone interested in singing Christmas songs by the Nativity Scene should contact Salli Chernis\, Secy. of State’s office\, Dept. of Physical Services\, at 217-782-8996.  NOTE:  Music is limited to the noon hour. \nFor more info: \nJulie Zanoza\, 217-737-0416 or SpringfieldNativityScene@xmail99.com \nThomas Brejcha\, Legal Counsel\, 312-782-1680 \n  \n 
URL:https://illinoisfamily.org/event/springfield-nativity-scene/
ATTACH;FMTTYPE=image/jpeg:https://illinoisfamily.org/wp-content/uploads/2015/11/nativity-scene.jpg
END:VEVENT
END:VCALENDAR