BEGIN:VCALENDAR
VERSION:2.0
PRODID:-//Illinois Family Institute - ECPv5.16.4//NONSGML v1.0//EN
CALSCALE:GREGORIAN
METHOD:PUBLISH
X-WR-CALNAME:Illinois Family Institute
X-ORIGINAL-URL:https://illinoisfamily.org
X-WR-CALDESC:Events for Illinois Family Institute
BEGIN:VTIMEZONE
TZID:America/Chicago
BEGIN:DAYLIGHT
TZOFFSETFROM:-0600
TZOFFSETTO:-0500
TZNAME:CDT
DTSTART:20200308T080000
END:DAYLIGHT
BEGIN:STANDARD
TZOFFSETFROM:-0500
TZOFFSETTO:-0600
TZNAME:CST
DTSTART:20201101T070000
END:STANDARD
END:VTIMEZONE
BEGIN:VEVENT
DTSTART;TZID=America/Chicago:20200321T080000
DTEND;TZID=America/Chicago:20200321T163000
DTSTAMP:20260424T074259
CREATED:20200101T174722Z
LAST-MODIFIED:20200127T123406Z
UID:54684-1584777600-1584808200@illinoisfamily.org
SUMMARY:Springfield Iron Sharpens Iron 2020
DESCRIPTION:The Mission of the IRON SHARPENS IRON Conference Network is to mobilize regional ministries to resource local churches with a first class one-day equipping conference that is specifically designed for men (age 13 and older). We are excited to have Kenny Luck & Jammal Williams joining us in Springfield for the 2020 conference! \nHas your church or men’s group requested a promotion packet? If not you can request a free Church Promotion Packet here.
URL:https://illinoisfamily.org/event/springfield-iron-sharpens-iron-2020/
LOCATION:First United Methodist Church\, 2941 S. Koke Mill Rd.\, Springfield\, IL\, United States
CATEGORIES:Conference
ATTACH;FMTTYPE=image/jpeg:https://illinoisfamily.org/wp-content/uploads/2019/12/ISI2020.jpg
END:VEVENT
END:VCALENDAR