BEGIN:VCALENDAR
VERSION:2.0
PRODID:-//Illinois Family Institute - ECPv5.16.4//NONSGML v1.0//EN
CALSCALE:GREGORIAN
METHOD:PUBLISH
X-WR-CALNAME:Illinois Family Institute
X-ORIGINAL-URL:https://illinoisfamily.org
X-WR-CALDESC:Events for Illinois Family Institute
BEGIN:VTIMEZONE
TZID:America/Chicago
BEGIN:DAYLIGHT
TZOFFSETFROM:-0600
TZOFFSETTO:-0500
TZNAME:CDT
DTSTART:20240310T080000
END:DAYLIGHT
BEGIN:STANDARD
TZOFFSETFROM:-0500
TZOFFSETTO:-0600
TZNAME:CST
DTSTART:20241103T070000
END:STANDARD
END:VTIMEZONE
BEGIN:VEVENT
DTSTART;TZID=America/Chicago:20240427T080000
DTEND;TZID=America/Chicago:20240427T170000
DTSTAMP:20260420T065622
CREATED:20240305T110005Z
LAST-MODIFIED:20240304T215938Z
UID:74231-1714204800-1714237200@illinoisfamily.org
SUMMARY:Pro-Life Family Coalition
DESCRIPTION:Come join us for our 39th Annual Seminar and Banquet! \nThis year’s guest speaker will be Dr. Alice Maria Crawford. \nAlice Maria Crawford\, Ed.D. Over the course of her life Alice Maria Crawford has been able to live out her passion of investing in the lives of others. She worked with youth and young adults for over forty years\, both as a public school teacher and youth leader in the church. During her career with the Chicago Public Schools she had opportunity to experience the full spectrum of the educational arena. Becoming a Christian in her early adult years\, she felt the most important gift she could give her own eight children was an introduction to what it means to live as a Christian. (learn more) \nWe are planning to have 100 Black Churches speak out against abortion. \nYou won’t want to miss this event!
URL:https://illinoisfamily.org/event/pro-life-family-coalition/
LOCATION:Exquisite Elements by the Odyssey\, 16235 La Grange Rd.\, Orland Park\, IL\, 60467\, United States
CATEGORIES:Banquet,Seminar
ATTACH;FMTTYPE=image/jpeg:https://illinoisfamily.org/wp-content/uploads/2024/03/Pro-Life-April-27-event.jpg
ORGANIZER;CN="Pro-Life%20Family%20Coalition":MAILTO:drjcrawford@aol.com
END:VEVENT
END:VCALENDAR