BEGIN:VCALENDAR
VERSION:2.0
PRODID:-//Illinois Family Institute - ECPv5.16.4//NONSGML v1.0//EN
CALSCALE:GREGORIAN
METHOD:PUBLISH
X-WR-CALNAME:Illinois Family Institute
X-ORIGINAL-URL:https://illinoisfamily.org
X-WR-CALDESC:Events for Illinois Family Institute
BEGIN:VTIMEZONE
TZID:America/Chicago
BEGIN:DAYLIGHT
TZOFFSETFROM:-0600
TZOFFSETTO:-0500
TZNAME:CDT
DTSTART:20200308T080000
END:DAYLIGHT
BEGIN:STANDARD
TZOFFSETFROM:-0500
TZOFFSETTO:-0600
TZNAME:CST
DTSTART:20201101T070000
END:STANDARD
END:VTIMEZONE
BEGIN:VEVENT
DTSTART;TZID=America/Chicago:20200222T083000
DTEND;TZID=America/Chicago:20200222T163000
DTSTAMP:20260424T125921
CREATED:20191231T120050Z
LAST-MODIFIED:20200127T123107Z
UID:54666-1582360200-1582389000@illinoisfamily.org
SUMMARY:Orland Park Iron Sharpens Iron
DESCRIPTION:The Mission of the IRON SHARPENS IRON Conference Network is to mobilize regional ministries to resource local churches with a first class one-day equipping conference that is specifically designed for men (age 13 and older). We are excited to have Eric Ludy & Stephen Newby joining us in Orland Park for the 2020 conference! \nHas your church or men’s group requested a promotion packet? If not you can request a free Church Promotion Packet here.
URL:https://illinoisfamily.org/event/orland-park-iron-sharpens-iron/
LOCATION:Orland Park Church\, 7500 West Sycamore Drive\, Orland Park\, IL\, United States
CATEGORIES:Conference
ATTACH;FMTTYPE=image/jpeg:https://illinoisfamily.org/wp-content/uploads/2019/12/ISI2020.jpg
END:VEVENT
END:VCALENDAR