BEGIN:VCALENDAR
VERSION:2.0
PRODID:-//Illinois Family Institute - ECPv5.16.4//NONSGML v1.0//EN
CALSCALE:GREGORIAN
METHOD:PUBLISH
X-WR-CALNAME:Illinois Family Institute
X-ORIGINAL-URL:https://illinoisfamily.org
X-WR-CALDESC:Events for Illinois Family Institute
BEGIN:VTIMEZONE
TZID:America/Chicago
BEGIN:DAYLIGHT
TZOFFSETFROM:-0600
TZOFFSETTO:-0500
TZNAME:CDT
DTSTART:20220313T080000
END:DAYLIGHT
BEGIN:STANDARD
TZOFFSETFROM:-0500
TZOFFSETTO:-0600
TZNAME:CST
DTSTART:20221106T070000
END:STANDARD
END:VTIMEZONE
BEGIN:VEVENT
DTSTART;TZID=America/Chicago:20220517T183000
DTEND;TZID=America/Chicago:20220517T203000
DTSTAMP:20260422T074707
CREATED:20220503T203104Z
LAST-MODIFIED:20220506T193706Z
UID:65589-1652812200-1652819400@illinoisfamily.org
SUMMARY:Medical Freedom Forum
DESCRIPTION:Dr. Simone Gold\, the founder of America’s Frontline Doctors\, will be our featured speaker at this special forum in which we will expose how medical tyranny is taking over America — and how our civil rights and the U.S. Constitution itself is under grievous attack. \nInternationally known as “the doctor who went viral\,” Dr. Gold is a 20 year-plus formerly board certified emergency physician who voluntarily refused to renew her board certification in 2021 due to the unethical behavior of the Medical Boards. She is the author of the best-selling book “I Do Not Consent: My Fight Against Medical Cancel Culture.” \nClick HERE for a flyer.
URL:https://illinoisfamily.org/event/medical-freedom-forum/
LOCATION:Jubilee Bible Church\, 900 Foster Ave.\, Medinah\, IL\, 60157\, United States
ATTACH;FMTTYPE=image/jpeg:https://illinoisfamily.org/wp-content/uploads/2022/05/Medical-Freedom-event-1.jpg
END:VEVENT
END:VCALENDAR