BEGIN:VCALENDAR
VERSION:2.0
PRODID:-//Illinois Family Institute - ECPv5.16.4//NONSGML v1.0//EN
CALSCALE:GREGORIAN
METHOD:PUBLISH
X-WR-CALNAME:Illinois Family Institute
X-ORIGINAL-URL:https://illinoisfamily.org
X-WR-CALDESC:Events for Illinois Family Institute
BEGIN:VTIMEZONE
TZID:America/Chicago
BEGIN:DAYLIGHT
TZOFFSETFROM:-0600
TZOFFSETTO:-0500
TZNAME:CDT
DTSTART:20200308T080000
END:DAYLIGHT
BEGIN:STANDARD
TZOFFSETFROM:-0500
TZOFFSETTO:-0600
TZNAME:CST
DTSTART:20201101T070000
END:STANDARD
END:VTIMEZONE
BEGIN:VEVENT
DTSTART;TZID=America/Chicago:20200111T130000
DTEND;TZID=America/Chicago:20200111T150000
DTSTAMP:20260422T091027
CREATED:20190823T123830Z
LAST-MODIFIED:20200103T160249Z
UID:53239-1578747600-1578754800@illinoisfamily.org
SUMMARY:March for Life Chicago 2020
DESCRIPTION:Plan to march with us through the streets of Chicago once again! \nSaturday\, January 11th\, 2020 \n– Plan a bus trip to the March! We have changed the day of the March to a Saturday to accommodate more groups traveling from across the Midwest. Register your group here! \n \n– Display a March for Life Table at your Church or organization during October’s Respect Life Month! We would be happy to send you promotional materials. Facebook Message us! \n– Become a sponsor of the March. Visit our website for sponsorship levels and benefits. If we hear back from you by August 15th\, your organization’s logo could be on our official MFLC flier that will be distributed to all our supporters. \nTo become a sponsor\, please send a check to: \nMarch for Life Chicago\n6160 N. Cicero Ave. Ste. 600\nChicago\, IL 60646 \n\nWe mark with deep sadness the great tragedy of the legalization of abortion in the United States along with the devastating social\, moral\, and legal consequences that have followed. Our vision is that\, marching together in hope\, we call upon religious\, civic\, and community leaders to renew every effort to build a nation that affirms the authentic dignity of women and men\, the gift of children\, and a culture dedicated to protecting life at every stage of development in law and love. \nOur purpose is to provide an annual public event composed of people from diverse ethnic\, social\, and religious backgrounds dedicated to defending and protecting all human life. \n“The fight for the right to life is not the cause of a special few\, but the cause of every man\,\nwoman and child who cares not only about his or her own family\,\nbut the whole family of man.” ~Dr. Mildred Jefferson\, Pro-Life Activist & Heroine
URL:https://illinoisfamily.org/event/march-for-life-chicago-2020/
LOCATION:Daley Plaza\, 50 W. Washington Street\, Chicago\, IL\, 60602\, United States
CATEGORIES:Rally
ATTACH;FMTTYPE=image/png:https://illinoisfamily.org/wp-content/uploads/2019/08/ChicagoMarch4Life.png
ORGANIZER;CN="weDignify":MAILTO:info@weDignify.org
END:VEVENT
END:VCALENDAR