BEGIN:VCALENDAR
VERSION:2.0
PRODID:-//Illinois Family Institute - ECPv5.16.4//NONSGML v1.0//EN
CALSCALE:GREGORIAN
METHOD:PUBLISH
X-WR-CALNAME:Illinois Family Institute
X-ORIGINAL-URL:https://illinoisfamily.org
X-WR-CALDESC:Events for Illinois Family Institute
BEGIN:VTIMEZONE
TZID:America/Chicago
BEGIN:DAYLIGHT
TZOFFSETFROM:-0600
TZOFFSETTO:-0500
TZNAME:CDT
DTSTART:20240310T080000
END:DAYLIGHT
BEGIN:STANDARD
TZOFFSETFROM:-0500
TZOFFSETTO:-0600
TZNAME:CST
DTSTART:20241103T070000
END:STANDARD
END:VTIMEZONE
BEGIN:VEVENT
DTSTART;TZID=America/Chicago:20240925T183000
DTEND;TZID=America/Chicago:20240925T193000
DTSTAMP:20260423T214459
CREATED:20240913T100049Z
LAST-MODIFIED:20240912T190205Z
UID:77358-1727289000-1727292600@illinoisfamily.org
SUMMARY:Letter to the American Church Movie Screening
DESCRIPTION:Don’t miss this one time movie screening of Letter to the American Church! \nAmericans and the American Church are at the same crossroads that the German Church was during the time of Hitler. This movie will educate and inspire God’s people in a time where we need it the most. \n 
URL:https://illinoisfamily.org/event/letter-to-the-american-church-movie-screening/
LOCATION:Arcada Theater\, 105 E. Main St.\, St. Charles\, IL\, 60174\, United States
CATEGORIES:Entertainment
ATTACH;FMTTYPE=image/jpeg:https://illinoisfamily.org/wp-content/uploads/2024/09/Letter-to-the-American-Church-event.jpg
END:VEVENT
END:VCALENDAR