BEGIN:VCALENDAR
VERSION:2.0
PRODID:-//Illinois Family Institute - ECPv5.16.4//NONSGML v1.0//EN
CALSCALE:GREGORIAN
METHOD:PUBLISH
X-WR-CALNAME:Illinois Family Institute
X-ORIGINAL-URL:https://illinoisfamily.org
X-WR-CALDESC:Events for Illinois Family Institute
BEGIN:VTIMEZONE
TZID:America/Chicago
BEGIN:DAYLIGHT
TZOFFSETFROM:-0600
TZOFFSETTO:-0500
TZNAME:CDT
DTSTART:20250309T080000
END:DAYLIGHT
BEGIN:STANDARD
TZOFFSETFROM:-0500
TZOFFSETTO:-0600
TZNAME:CST
DTSTART:20251102T070000
END:STANDARD
END:VTIMEZONE
BEGIN:VEVENT
DTSTART;TZID=America/Chicago:20250315T083000
DTEND;TZID=America/Chicago:20250315T170000
DTSTAMP:20260424T142101
CREATED:20241119T110052Z
LAST-MODIFIED:20241122T163754Z
UID:78341-1742027400-1742058000@illinoisfamily.org
SUMMARY:Iron Sharpens Iron- Springfield\, IL
DESCRIPTION:“Iron sharpens iron\, and one man sharpens another.” Proverbs 27:17 (ESV) \nIron Sharpens Iron is a men’s conference which focuses on equipping and building up men for the kingdom of God. This year’s ISI Conference in Springfield\, IL will  feature keynote speakers Bryndan Loritts and Delano Squires. \nRegistration opens January 1st! \nEvent Location: First UMC\, 2941 S. Koke Mill Rd.\, Springfield\, IL 62711\n \nEarly Registration Group Deadline is Ten (10) Days before the event.
URL:https://illinoisfamily.org/event/iron-sharpens-iron-springfield-il/
LOCATION:First United Methodist Church\, 2941 S. Koke Mill Rd.\, Springfield\, IL\, United States
CATEGORIES:Conference
ATTACH;FMTTYPE=image/jpeg:https://illinoisfamily.org/wp-content/uploads/2024/11/Iron-Sharpens-Iron-March-15.jpg
END:VEVENT
END:VCALENDAR