BEGIN:VCALENDAR
VERSION:2.0
PRODID:-//Illinois Family Institute - ECPv5.16.4//NONSGML v1.0//EN
CALSCALE:GREGORIAN
METHOD:PUBLISH
X-WR-CALNAME:Illinois Family Institute
X-ORIGINAL-URL:https://illinoisfamily.org
X-WR-CALDESC:Events for Illinois Family Institute
BEGIN:VTIMEZONE
TZID:America/Chicago
BEGIN:DAYLIGHT
TZOFFSETFROM:-0600
TZOFFSETTO:-0500
TZNAME:CDT
DTSTART:20230312T080000
END:DAYLIGHT
BEGIN:STANDARD
TZOFFSETFROM:-0500
TZOFFSETTO:-0600
TZNAME:CST
DTSTART:20231105T070000
END:STANDARD
END:VTIMEZONE
BEGIN:VEVENT
DTSTART;TZID=America/Chicago:20230311T080000
DTEND;TZID=America/Chicago:20230311T170000
DTSTAMP:20260424T142440
CREATED:20221118T204624Z
LAST-MODIFIED:20230120T172335Z
UID:67808-1678521600-1678554000@illinoisfamily.org
SUMMARY:Iron Sharpens Iron Men's Conference in Springfield
DESCRIPTION:The mission of the IRON SHARPENS IRON Conference Network is to mobilize regional ministries to resource local churches with a first class one-day equipping conference that is specifically designed for men (age 13 and older). This year’s keynote speakers are Dusty Davis and Joe Martin. \nClick HERE for a flyer.
URL:https://illinoisfamily.org/event/iron-sharpens-iron-mens-conference-in-springfield/
LOCATION:First United Methodist Church\, 2941 S. Koke Mill Rd.\, Springfield\, IL\, United States
CATEGORIES:Conference
ATTACH;FMTTYPE=image/png:https://illinoisfamily.org/wp-content/uploads/2013/08/ironsharpensiron.png
END:VEVENT
END:VCALENDAR