BEGIN:VCALENDAR
VERSION:2.0
PRODID:-//Illinois Family Institute - ECPv5.16.4//NONSGML v1.0//EN
CALSCALE:GREGORIAN
METHOD:PUBLISH
X-WR-CALNAME:Illinois Family Institute
X-ORIGINAL-URL:https://illinoisfamily.org
X-WR-CALDESC:Events for Illinois Family Institute
BEGIN:VTIMEZONE
TZID:America/Chicago
BEGIN:DAYLIGHT
TZOFFSETFROM:-0600
TZOFFSETTO:-0500
TZNAME:CDT
DTSTART:20240310T080000
END:DAYLIGHT
BEGIN:STANDARD
TZOFFSETFROM:-0500
TZOFFSETTO:-0600
TZNAME:CST
DTSTART:20241103T070000
END:STANDARD
END:VTIMEZONE
BEGIN:VEVENT
DTSTART;TZID=America/Chicago:20240316T083000
DTEND;TZID=America/Chicago:20240316T170000
DTSTAMP:20260424T155540
CREATED:20231114T110013Z
LAST-MODIFIED:20231113T203019Z
UID:72809-1710577800-1710608400@illinoisfamily.org
SUMMARY:Iron Sharpens Iron Men’s Conference in Springfield
DESCRIPTION:The Iron Sharpens Iron Conference Network is made up of Christ-centered men’s ministries that serve local churches in their geographic region 52 weeks a year. ISI network ministries engage pastors and men’s leaders in ongoing relationships\, providing training\, coaching\, equipping and resources. \nThese vital resources help the church reach and build their men. \nWhile training and equipping local churches is the heartbeat of the regional ministries\, the most visible resource is the one-day equipping conference held each year for men of all ages. \nThis year’s keynote speakers are Virgil Walker and Chris Harper.
URL:https://illinoisfamily.org/event/iron-sharpens-iron-mens-conference-in-springfield-2/
LOCATION:First United Methodist Church\, 2941 S. Koke Mill Rd.\, Springfield\, IL\, United States
CATEGORIES:Conference
ATTACH;FMTTYPE=image/jpeg:https://illinoisfamily.org/wp-content/uploads/2023/11/Mens-ISI-March-16-2024-Springfield-IL-conference.jpg
END:VEVENT
END:VCALENDAR