BEGIN:VCALENDAR
VERSION:2.0
PRODID:-//Illinois Family Institute - ECPv5.16.4//NONSGML v1.0//EN
CALSCALE:GREGORIAN
METHOD:PUBLISH
X-WR-CALNAME:Illinois Family Institute
X-ORIGINAL-URL:https://illinoisfamily.org
X-WR-CALDESC:Events for Illinois Family Institute
BEGIN:VTIMEZONE
TZID:America/Chicago
BEGIN:DAYLIGHT
TZOFFSETFROM:-0600
TZOFFSETTO:-0500
TZNAME:CDT
DTSTART:20240310T080000
END:DAYLIGHT
BEGIN:STANDARD
TZOFFSETFROM:-0500
TZOFFSETTO:-0600
TZNAME:CST
DTSTART:20241103T070000
END:STANDARD
END:VTIMEZONE
BEGIN:VEVENT
DTSTART;TZID=America/Chicago:20240420T083000
DTEND;TZID=America/Chicago:20240420T170000
DTSTAMP:20260422T202839
CREATED:20231114T110027Z
LAST-MODIFIED:20231113T203150Z
UID:72815-1713601800-1713632400@illinoisfamily.org
SUMMARY:Iron Sharpens Iron Men’s Conference in Champaign
DESCRIPTION:The Iron Sharpens Iron Conference Network is made up of Christ-centered men’s ministries that serve local churches in their geographic region 52 weeks a year. ISI network ministries engage pastors and men’s leaders in ongoing relationships\, providing training\, coaching\, equipping and resources. \nThese vital resources help the church reach and build their men. \nWhile training and equipping local churches is the heartbeat of the regional ministries\, the most visible resource is the one-day equipping conference held each year for men of all ages. \nThis year’s keynote speakers are Kent Evans and Jamaal Williams.
URL:https://illinoisfamily.org/event/iron-sharpens-iron-mens-conference-in-champaign-2/
LOCATION:New Horizon Methodist United Church\, 3002 W Bloomington Rd\, Champaign\, IL\, 61822\, United States
CATEGORIES:Conference
ATTACH;FMTTYPE=image/jpeg:https://illinoisfamily.org/wp-content/uploads/2023/11/Mens-ISI-April-20-2024-IL-conference.jpg
END:VEVENT
END:VCALENDAR