BEGIN:VCALENDAR
VERSION:2.0
PRODID:-//Illinois Family Institute - ECPv5.16.4//NONSGML v1.0//EN
CALSCALE:GREGORIAN
METHOD:PUBLISH
X-WR-CALNAME:Illinois Family Institute
X-ORIGINAL-URL:https://illinoisfamily.org
X-WR-CALDESC:Events for Illinois Family Institute
BEGIN:VTIMEZONE
TZID:America/Chicago
BEGIN:DAYLIGHT
TZOFFSETFROM:-0600
TZOFFSETTO:-0500
TZNAME:CDT
DTSTART:20180311T080000
END:DAYLIGHT
BEGIN:STANDARD
TZOFFSETFROM:-0500
TZOFFSETTO:-0600
TZNAME:CST
DTSTART:20181104T070000
END:STANDARD
END:VTIMEZONE
BEGIN:VEVENT
DTSTART;VALUE=DATE:20180317
DTEND;VALUE=DATE:20180318
DTSTAMP:20260424T142244
CREATED:20180126T144236Z
LAST-MODIFIED:20180126T144329Z
UID:23059-1521244800-1521331199@illinoisfamily.org
SUMMARY:Iron Sharpens Iron Conference in Springfield
DESCRIPTION:Iron Sharpens Iron is a Conference Network made up of individual ministries that are working interdependently to most effectively offer local church resources for men. We are doing this by mobilizing ministries to resource local churches with a first class one-day equipping conference that is designed for men (age 13 and older). Featuring Rev. JP Jones and Pastor Jamaal Williams. \nClick here for more information and to register.
URL:https://illinoisfamily.org/event/iron-sharpens-iron-conference-springfield/
LOCATION:First United Methodist Church\, 2941 S. Koke Mill Rd.\, Springfield\, IL\, United States
END:VEVENT
END:VCALENDAR