BEGIN:VCALENDAR
VERSION:2.0
PRODID:-//Illinois Family Institute - ECPv5.16.4//NONSGML v1.0//EN
CALSCALE:GREGORIAN
METHOD:PUBLISH
X-WR-CALNAME:Illinois Family Institute
X-ORIGINAL-URL:https://illinoisfamily.org
X-WR-CALDESC:Events for Illinois Family Institute
BEGIN:VTIMEZONE
TZID:America/Chicago
BEGIN:DAYLIGHT
TZOFFSETFROM:-0600
TZOFFSETTO:-0500
TZNAME:CDT
DTSTART:20180311T080000
END:DAYLIGHT
BEGIN:STANDARD
TZOFFSETFROM:-0500
TZOFFSETTO:-0600
TZNAME:CST
DTSTART:20181104T070000
END:STANDARD
END:VTIMEZONE
BEGIN:VEVENT
DTSTART;VALUE=DATE:20180421
DTEND;VALUE=DATE:20180422
DTSTAMP:20260422T202828
CREATED:20180126T152108Z
LAST-MODIFIED:20180126T152108Z
UID:23062-1524268800-1524355199@illinoisfamily.org
SUMMARY:Iron Sharpens Iron Conference in Champaign
DESCRIPTION:Iron Sharpens Iron is a Conference Network made up of individual ministries that are working interdependently to most effectively offer local church resources for men. We are doing this by mobilizing ministries to resource local churches with a first class one-day equipping conference that is designed for men (age 13 and older). Featuring author Kenny Luck and Pastor Leonce Crump Jr. \nClick here for more information and to register.
URL:https://illinoisfamily.org/event/iron-sharpens-iron-conference-champaign/
LOCATION:New Horizon Methodist United Church\, 3002 W Bloomington Rd\, Champaign\, IL\, 61822\, United States
CATEGORIES:Conference
END:VEVENT
END:VCALENDAR