BEGIN:VCALENDAR
VERSION:2.0
PRODID:-//Illinois Family Institute - ECPv5.16.4//NONSGML v1.0//EN
CALSCALE:GREGORIAN
METHOD:PUBLISH
X-WR-CALNAME:Illinois Family Institute
X-ORIGINAL-URL:https://illinoisfamily.org
X-WR-CALDESC:Events for Illinois Family Institute
BEGIN:VTIMEZONE
TZID:America/Chicago
BEGIN:DAYLIGHT
TZOFFSETFROM:-0600
TZOFFSETTO:-0500
TZNAME:CDT
DTSTART:20210314T080000
END:DAYLIGHT
BEGIN:STANDARD
TZOFFSETFROM:-0500
TZOFFSETTO:-0600
TZNAME:CST
DTSTART:20211107T070000
END:STANDARD
END:VTIMEZONE
BEGIN:VEVENT
DTSTART;TZID=America/Chicago:20210925T083000
DTEND;TZID=America/Chicago:20210925T170000
DTSTAMP:20260422T184907
CREATED:20210830T194245Z
LAST-MODIFIED:20210830T194245Z
UID:62276-1632558600-1632589200@illinoisfamily.org
SUMMARY:Champaign Iron Sharpens Iron Men's Conference
DESCRIPTION:The mission of the IRON SHARPENS IRON Conference Network is to mobilize regional ministries to resource local churches with a first class one-day equipping conference that is specifically designed for men (age 13 and older). We are excited to have Steve Holt & Kempton Turner joining us in Champaign for the 2021 conference! Learn more HERE.
URL:https://illinoisfamily.org/event/champaign-iron-sharpens-iron-mens-conference/
LOCATION:New Horizon Methodist United Church\, 3002 W Bloomington Rd\, Champaign\, IL\, 61822\, United States
ATTACH;FMTTYPE=image/png:https://illinoisfamily.org/wp-content/uploads/2013/12/IronSharpensIron.png
END:VEVENT
END:VCALENDAR