BEGIN:VCALENDAR
VERSION:2.0
PRODID:-//Illinois Family Institute - ECPv5.16.4//NONSGML v1.0//EN
CALSCALE:GREGORIAN
METHOD:PUBLISH
X-WR-CALNAME:Illinois Family Institute
X-ORIGINAL-URL:https://illinoisfamily.org
X-WR-CALDESC:Events for Illinois Family Institute
BEGIN:VTIMEZONE
TZID:America/Chicago
BEGIN:DAYLIGHT
TZOFFSETFROM:-0600
TZOFFSETTO:-0500
TZNAME:CDT
DTSTART:20200308T080000
END:DAYLIGHT
BEGIN:STANDARD
TZOFFSETFROM:-0500
TZOFFSETTO:-0600
TZNAME:CST
DTSTART:20201101T070000
END:STANDARD
END:VTIMEZONE
BEGIN:VEVENT
DTSTART;TZID=America/Chicago:20200404T080000
DTEND;TZID=America/Chicago:20200404T163000
DTSTAMP:20260422T184829
CREATED:20200101T181222Z
LAST-MODIFIED:20200127T123515Z
UID:54703-1585987200-1586017800@illinoisfamily.org
SUMMARY:Champaign Iron Sharpens Iron Conference
DESCRIPTION:The Mission of the IRON SHARPENS IRON Conference Network is to mobilize regional ministries to resource local churches with a first class one-day equipping conference that is specifically designed for men (age 13 and older). We are excited to have Steve Holt & Kempton Turner joining us in Champaign for the 2020 conference! \nHas your church or men’s group requested a promotion packet? If not you can request a free Church Promotion Packet here.
URL:https://illinoisfamily.org/event/champaign-iron-sharpens-iron-conference/
LOCATION:New Horizon Methodist United Church\, 3002 W Bloomington Rd\, Champaign\, IL\, 61822\, United States
CATEGORIES:Conference,Retreat
ATTACH;FMTTYPE=image/jpeg:https://illinoisfamily.org/wp-content/uploads/2019/12/ISI2020.jpg
END:VEVENT
END:VCALENDAR