BEGIN:VCALENDAR
VERSION:2.0
PRODID:-//Illinois Family Institute - ECPv5.16.4//NONSGML v1.0//EN
CALSCALE:GREGORIAN
METHOD:PUBLISH
X-WR-CALNAME:Illinois Family Institute
X-ORIGINAL-URL:https://illinoisfamily.org
X-WR-CALDESC:Events for Illinois Family Institute
BEGIN:VTIMEZONE
TZID:America/Chicago
BEGIN:DAYLIGHT
TZOFFSETFROM:-0600
TZOFFSETTO:-0500
TZNAME:CDT
DTSTART:20230312T080000
END:DAYLIGHT
BEGIN:STANDARD
TZOFFSETFROM:-0500
TZOFFSETTO:-0600
TZNAME:CST
DTSTART:20231105T070000
END:STANDARD
END:VTIMEZONE
BEGIN:VEVENT
DTSTART;TZID=America/Chicago:20231117T190000
DTEND;TZID=America/Chicago:20231117T213000
DTSTAMP:20260422T072316
CREATED:20230919T100021Z
LAST-MODIFIED:20230922T163120Z
UID:71800-1700247600-1700256600@illinoisfamily.org
SUMMARY:A&M Partnership Annual Banquet
DESCRIPTION:Please join us for the A&M Partnership Annual Banquet at the Cotillion in Palatine\, on Friday\, November 17th from 7:00-9:30pm. This year\, we are featuring Bridget Ziegler\, who is the co-founder of Moms for Liberty. \nThere are several ways to participate in this event: \n\nHOST A TABLE: A Table Host simply invites family & friends to attend the banquet. There is no cost to attend or to host a table. Please register for the event and click “Yes I would like to Host a Table” HERE. A Table Host may also be a Table Sponsor.\nSPONSOR A TABLE: A Table Sponsor helps cover the cost of the banquet so that all funds received at the event will go directly to the ministry. A Table Sponsor may also host a table.\n\n     Standard $ 750 \n     Bronze $1\,000 \n     Silver $2\,500 \n     Gold $5\,000 \nTo Sponsor a Table please donate online HERE or send contribution to: \nA&M Partnership\n411 E. Business Center Drive\, Suite 103\nMount Prospect\, IL 60056 \n\nATTEND: There is no cost to attend although there will be an opportunity for financial partnership. Please help us spread the word through e-mail\, social media\, and personal invitation.\n\nTo attend\, please register HERE. \nWe look forward to seeing you there!
URL:https://illinoisfamily.org/event/am-partnership-annual-banquet/
LOCATION:The Cotillion\, 360 S. Creekside Dr.\, Palatine\, IL\, 60074\, United States
ATTACH;FMTTYPE=image/jpeg:https://illinoisfamily.org/wp-content/uploads/2023/09/AMP-Banquet-Nov-17.jpg
END:VEVENT
END:VCALENDAR