BEGIN:VCALENDAR
VERSION:2.0
PRODID:-//Illinois Family Institute - ECPv5.16.4//NONSGML v1.0//EN
CALSCALE:GREGORIAN
METHOD:PUBLISH
X-WR-CALNAME:Illinois Family Institute
X-ORIGINAL-URL:https://illinoisfamily.org
X-WR-CALDESC:Events for Illinois Family Institute
BEGIN:VTIMEZONE
TZID:America/Chicago
BEGIN:DAYLIGHT
TZOFFSETFROM:-0600
TZOFFSETTO:-0500
TZNAME:CDT
DTSTART:20210314T080000
END:DAYLIGHT
BEGIN:STANDARD
TZOFFSETFROM:-0500
TZOFFSETTO:-0600
TZNAME:CST
DTSTART:20211107T070000
END:STANDARD
END:VTIMEZONE
BEGIN:VEVENT
DTSTART;TZID=America/Chicago:20211014T190000
DTEND;TZID=America/Chicago:20211014T213000
DTSTAMP:20260422T234749
CREATED:20210830T134752Z
LAST-MODIFIED:20210830T134752Z
UID:62262-1634238000-1634247000@illinoisfamily.org
SUMMARY:A&M Annual Banquet with Dr. Joe Stowell
DESCRIPTION:Please join us for the Abstinence & Marriage Education Partnership (A&M Partnership) Annual Banquet on Thursday\, October 14\, 2021 at the Cotillion in Palatine at Route 53 and Northwest Highway.  A&M reaches teens around the country by equipping parents\, pastors\, and teachers to ensure that every teenager in the country has the opportunity to hear a clearly reasoned positive presentation on the benefits of abstinence until marriage and instruction on preparing for a healthy future marriage. \nThere are several ways to participate in this event: \n\nHOST A TABLE: A Table Host simply invites family & friends to attend the banquet. There is no cost to attend or to host a table. Table Hosts will be invited to a private reception with Dr. Stowell. Please register for the event and click “Yes I would like to Host a Table” HERE. A Table Host may also be a Table Sponsor.\n\n\nSPONSOR A TABLE: A Table Sponsor helps cover the cost of the banquet so that all funds received at the event will go directly to the ministry. A Table Sponsor may also host a table.\n\n\n\n\n\n\nStandard $750\nBronze $1\,000\nSilver $2\,500\nGold $5\,000\n\n\n\n\n\nTo Sponsor a Table please donate online HERE or send contribution to: \nA&M Partnership\n411 E. Business Center Drive\, Suite 103\nMount Prospect\, IL 60056 \n\nATTEND: There is no cost to attend although there will be an opportunity for financial partnership. Please help us spread the word through e-mail\, social media\, and personal invitation. To attend\, please register HERE.\n\n \nWe look forward to seeing you there! \n\nJoseph M. Stowell \nDr. Joseph Stowell serves as President Emeritus of  Cornerstone University in Grand Rapids\, Michigan. Joe has written numerous books including The Trouble with Jesus\, Simply Jesus\,  and Eternity. Joe serves on the Board of the Billy Graham Evangelistic Association\, and has a distinguished career in higher education and church leadership. Joe served as president of Moody Bible Institute for 17 years\, and as President of Cornerstone University for 13 years. He is a graduate of Cedarville University and Dallas Theological Seminary and was honored with a doctor of divinity degree from The Master’s College in 1987. Joe and his wife Martie are the parents of three adult children and ten grandchildren.
URL:https://illinoisfamily.org/event/am-annual-banquet-with-dr-joe-stowell/
LOCATION:The	Cotillion\, 360 S Creekside Dr\, Palatine\,\, IL\, 60074\, United States
CATEGORIES:Fundraiser
ATTACH;FMTTYPE=image/png:https://illinoisfamily.org/wp-content/uploads/2021/08/AM-Event-2021.png
GEO:42.1033554;-88.0214013
X-APPLE-STRUCTURED-LOCATION;VALUE=URI;X-ADDRESS=The	Cotillion 360 S Creekside Dr Palatine IL 60074 United States;X-APPLE-RADIUS=500;X-TITLE=360 S Creekside Dr:geo:-88.0214013,42.1033554
END:VEVENT
END:VCALENDAR