BEGIN:VCALENDAR
VERSION:2.0
PRODID:-//Illinois Family Institute - ECPv5.16.4//NONSGML v1.0//EN
CALSCALE:GREGORIAN
METHOD:PUBLISH
X-WR-CALNAME:Illinois Family Institute
X-ORIGINAL-URL:https://illinoisfamily.org
X-WR-CALDESC:Events for Illinois Family Institute
BEGIN:VTIMEZONE
TZID:America/Chicago
BEGIN:DAYLIGHT
TZOFFSETFROM:-0600
TZOFFSETTO:-0500
TZNAME:CDT
DTSTART:20190310T080000
END:DAYLIGHT
BEGIN:STANDARD
TZOFFSETFROM:-0500
TZOFFSETTO:-0600
TZNAME:CST
DTSTART:20191103T070000
END:STANDARD
END:VTIMEZONE
BEGIN:VEVENT
DTSTART;TZID=America/Chicago:20191017T183000
DTEND;TZID=America/Chicago:20191017T213000
DTSTAMP:20260422T072315
CREATED:20190930T122138Z
LAST-MODIFIED:20190930T122829Z
UID:53710-1571337000-1571347800@illinoisfamily.org
SUMMARY:A&M Partnership 15th Anniversary Banquet
DESCRIPTION:The Abstinence & Marriage Education Partnership 15th Anniversary  Banquet will be held on Thursday\, October 17\, 2019 at the Cotillion in Palatine at Route 53 & Northwest Highway.  A&M reaches teens around the country through private and public schools and churches to ensure that every teenager in the country has the opportunity to hear a clearly reasoned positive presentation on the benefits of abstinence until marriage and instruction on preparing for a healthy future marriage. \nDoors open at 6:30 and the Banquet will begin promptly at 7:00pm concluding at 9:30pm. There is no cost to attend although there will be an opportunity for financial partnership. Please help us spread the word through e-mail\, social media\, and personal invitation. \n\n\n\n\nThe featured speaker is Ashley Bratcher\, lead actress in the movie Unplanned.  Ashley stars as Abby Johnson in the true story of Johnson’s inspiring transformation from Planned Parenthood clinic director to pro-life activist. Ashley is passionate about helping America’s youth and will speak on this year’s theme:  Restoring the Dream for America’s Youth.
URL:https://illinoisfamily.org/event/a-m-partnership-annual-banquet/
LOCATION:The Cotillion\, 360 S. Creekside Dr.\, Palatine\, IL\, 60074\, United States
ATTACH;FMTTYPE=image/png:https://illinoisfamily.org/wp-content/uploads/2019/09/AandM-2.png
END:VEVENT
END:VCALENDAR