BEGIN:VCALENDAR
VERSION:2.0
PRODID:-//Illinois Family Institute - ECPv5.16.4//NONSGML v1.0//EN
CALSCALE:GREGORIAN
METHOD:PUBLISH
X-WR-CALNAME:Illinois Family Institute
X-ORIGINAL-URL:https://illinoisfamily.org
X-WR-CALDESC:Events for Illinois Family Institute
BEGIN:VTIMEZONE
TZID:America/Chicago
BEGIN:DAYLIGHT
TZOFFSETFROM:-0600
TZOFFSETTO:-0500
TZNAME:CDT
DTSTART:20160313T080000
END:DAYLIGHT
BEGIN:STANDARD
TZOFFSETFROM:-0500
TZOFFSETTO:-0600
TZNAME:CST
DTSTART:20161106T070000
END:STANDARD
END:VTIMEZONE
BEGIN:VEVENT
DTSTART;TZID=America/Chicago:20160928T080000
DTEND;TZID=America/Chicago:20161106T170000
DTSTAMP:20260423T055748
CREATED:20160902T140905Z
LAST-MODIFIED:20160906T131143Z
UID:18890-1475049600-1478451600@illinoisfamily.org
SUMMARY:40 Days for Life
DESCRIPTION:40 Days for Life is the largest internationally coordinated pro-life mobilization in history\, helping local communities end the injustice of abortion. \n\n\n\n\n\nFrom September 28 to November 6\, communities around Illinois will take part in 40 Days for Life … a groundbreaking\, coordinated international  mobilization. We pray that\, with God’s help\, this will mark the beginning of the end of abortion in our city – and beyond. \nThrough prayer and fasting\, peaceful vigils\, and community outreach\, 40 Days for Life has already mobilized more than 700\,000 volunteers across 36 nations. With God’s help\, here are the proven results thus far: \n\n11\,796 babies saved from abortion\n1123 conversions of abortion workers\n74 closed abortion clinics\n\nHere are the locations in Illinois\, click for more information and to sign up: \n\nAurora (Flyer)\nChampaign\nChicago\nDowners Grove\nGranite City\nOrland Park (Flyer)\nOttawa\nPeoria
URL:https://illinoisfamily.org/event/40-days-life/
CATEGORIES:Rally
ATTACH;FMTTYPE=image/jpeg:https://illinoisfamily.org/wp-content/uploads/2016/09/40-days-for-life.jpg
END:VEVENT
END:VCALENDAR